BEGIN:VCALENDAR
VERSION:2.0
PRODID:-//一般社団法人医療サイバーセキュリティ協議会 - ECPv6.15.20//NONSGML v1.0//EN
CALSCALE:GREGORIAN
METHOD:PUBLISH
X-WR-CALNAME:一般社団法人医療サイバーセキュリティ協議会
X-ORIGINAL-URL:https://wp.medcsc.org
X-WR-CALDESC:一般社団法人医療サイバーセキュリティ協議会 のイベント
REFRESH-INTERVAL;VALUE=DURATION:PT1H
X-Robots-Tag:noindex
X-PUBLISHED-TTL:PT1H
BEGIN:VTIMEZONE
TZID:Asia/Tokyo
BEGIN:STANDARD
TZOFFSETFROM:+0900
TZOFFSETTO:+0900
TZNAME:JST
DTSTART:20240101T000000
END:STANDARD
END:VTIMEZONE
BEGIN:VEVENT
DTSTART;TZID=Asia/Tokyo:20250620T160000
DTEND;TZID=Asia/Tokyo:20250620T180000
DTSTAMP:20260421T223658
CREATED:20250601T070028Z
LAST-MODIFIED:20250619T131122Z
UID:2558-1750435200-1750442400@wp.medcsc.org
SUMMARY:第18回 医療サイバーセキュリティ協議会開催のお知らせ
DESCRIPTION:第18回医療サイバーセキュリティセミナー\n〜医療現場におけるセキュリティインテリジェンス人材〜\n急速に進展する医療のデジタルトランスフォーメーション（DX）は、患者中心のケアの実現や医療資源の最適化に大きく貢献しています。一方で、医療情報のサイバーリスクやシステム障害といったリスクも顕在化しており、それらに対応できる専門人材の育成は、喫緊の課題となっています。本セミナーでは、医療機関や関連企業における実践的な取り組み事例を紹介するとともに、医療分野特有のサイバーセキュリティ課題を見据えた人材育成の方向性と技術的視点を共有することを目的としています。参加者の皆様には、本日のプログラムを通じて、医療現場の安全と未来を担う新たな知見を得ていただき、それぞれの現場での実装にお役立ていただければ幸いです。 \n開催概要\n\n日時: 2025年6月20日（金）16:00〜18:00\n会場: 関西会場+オンライン\nオンライン参加: Microsoft Teamsセミナー(参加には、会員・非会員問わず事前登録が必要です。会員には登録リンクを配布、非会員は購入後登録リンクをお送りします。有料で参加可能)\n\n\nプログラム\n医療機関のサイバーリスクのハイエンド人材が活用するサイバーセキュリティインテリジェンスについてdeep diveします。 \n\nオープニング – 一般社団法人医療サイバーセキュリティ協議会 理事長 村井勝\n\nあいさつ\nTLP、コンプライアンスについて（副理事長　鈴木）\n\n\n講演 – 「令和７年度版　医療機関におけるサイバーセキュリティ対策チェックリストの読み方・書き方」、鳥飼幸太常任理事\n講演 – 「医療セキュリティ人材に必要なインテリジェンス」　アクセンチュア　テクノロジーコンサルティング本部　マネージングディレクタ ー　鐘ヶ江誠子\n講演 – 「医療セキュリティ人材育成」　グローバルセキュリティエキスパート株式会社　教育事業本部　事業企画部　部長 西野哲生様\nパネルディスカッション – MC 鳥飼常任理事\nクロージング – 一般社団法人医療サイバーセキュリティ協議会 副理事長 鳥飼幸太 \n\n次回の開催予告\n\n\n\n参加方法\n\n会員様向け: 無償で参加できます。会員Teamsサイトにてご案内しているセミナー参加登録リンクより事前登録を行なってください。\n非会員様向け: 有償で聴講できます。Yahoo! PassMarketにてチケットを販売予定です。詳細はWebページでの告知をご確認ください。\n\nお申し込み・お問い合わせ\nご不明点は、医療サイバーセキュリティ協議会事務局までご連絡ください。 \n\n関連講演\nhttps://wp.medcsc.org/blog/2025/05/19/%e9%96%a2%e8%a5%bf%e5%81%a5%e5%ba%b7%e3%83%bb%e5%8c%bb%e7%99%82%e5%89%b5%e7%94%9f%e4%bc%9a%e8%ad%b0%e3%82%aa%e3%83%b3%e3%83%a9%e3%82%a4%e3%83%b3%e3%82%bb%e3%83%9f%e3%83%8a%e3%83%bc%e3%80%80%ef%bd%9e/ \nhttps://wp.medcsc.org/blog/2025/05/19/%e4%bb%a4%e5%92%8c7%e5%b9%b4%e5%ba%a6-%e7%ac%ac4%e5%9b%9e%e7%a4%be%e5%93%a1%e7%b7%8f%e4%bc%9a%e9%96%8b%e5%82%ac%e3%81%ae%e3%81%8a%e7%9f%a5%e3%82%89%e3%81%9b/
URL:https://wp.medcsc.org/event/seninar/
LOCATION:神戸デジタル・ラボ（４階） セミナールーム\, 中央区京町72 番地\, 神戸市\, 兵庫県\, 650-0034\, Japan
CATEGORIES:セミナー,主催セミナー,有償セミナー,イベント
ATTACH;FMTTYPE=image/png:https://wp.medcsc.org/wp-content/uploads/2025/05/MedCSC_logo_square_dark.png
END:VEVENT
BEGIN:VEVENT
DTSTART;TZID=Asia/Tokyo:20250620T150000
DTEND;TZID=Asia/Tokyo:20250620T160000
DTSTAMP:20260421T223658
CREATED:20250531T150008Z
LAST-MODIFIED:20250619T131152Z
UID:2561-1750431600-1750435200@wp.medcsc.org
SUMMARY:令和7年度 第4回社員総会
DESCRIPTION:開催概要\n\n日時: 2025年6月20日（金）15:00〜16:00(14:30開場）\n会場: 関西開催+Teamsオンライン\nオンライン参加: Microsoft Teams(参加には、会員・非会員問わず事前登録が必要です。会員には登録リンクを配布、非会員は購入後登録リンクをお送りします。有料で参加可能)\n\nプログラム\n\n令和6年度活動報告\n\nイベント事業\n会計報告\n\n\n令和7年度活動計画\n\n基本方針\n事業内容\n\n教育・人材育成事業\n\n京都大学との共同研究によるプログラム開発\nMedCSCの人材育成ビジョン\n医療DXの成功条件\n\n\nJNSA（NPO日本ネットワークセキュリティ協会）との連携\n\n\n\n\n医療機関支援事業\n\nHCARE\n但馬地区地域医療連携支援\n筑波記念病院支援\n\n\nコミュニケーション・啓発事業\n\n医療サイバーセキュリティセミナー\n\n\n\n\n「社会貢献型業務報酬ポリシー」の運用について\n\n\n会員状況\n\n会員権利の活用について\n活動メンバーおよびボランティアの募集\n\n\n組織運営\n\n公益化状況報告\n人事報告\n\n\n総括\n\n参加方法\n\nMedCSC会員のみ参加可能です。会員にはメールにてTeamsリンクを送付いたします。\n\nお申し込み・お問い合わせ\nご不明点は、医療サイバーセキュリティ協議会事務局までご連絡ください。\n  \n\n________________________________________________________________________________\nMicrosoft Teams ヘルプが必要ですか?\n今すぐ会議に参加する\n会議 ID: 497 141 151 564 8\nパスコード: zq2dC24x\n\n\n\n開催者向け: 会議オプション\n\n\n________________________________________________________________________________
URL:https://wp.medcsc.org/event/%e4%bb%a4%e5%92%8c7%e5%b9%b4%e5%ba%a6-%e7%ac%ac4%e5%9b%9e%e7%a4%be%e5%93%a1%e7%b7%8f%e4%bc%9a/
LOCATION:神戸デジタル・ラボ（４階） セミナールーム\, 中央区京町72 番地\, 神戸市\, 兵庫県\, 650-0034\, Japan
CATEGORIES:社員総会,イベント
ATTACH;FMTTYPE=image/png:https://wp.medcsc.org/wp-content/uploads/2025/05/MedCSC_logo_square_dark.png
END:VEVENT
END:VCALENDAR